BEGIN:VCALENDAR
VERSION:2.0
PRODID:-//wp-events-plugin.com//7.2.3.1//EN
TZID:Europe/Madrid
X-WR-TIMEZONE:Europe/Madrid
BEGIN:VEVENT
UID:7-73@participacionciudadana.motril.es
DTSTART;TZID=Europe/Madrid;VALUE=DATE:20241018
DTEND;TZID=Europe/Madrid;VALUE=DATE:20241021
DTSTAMP:20241017T111915Z
URL:https://participacionciudadana.motril.es/eventos/fiestas-del-barrio-de
 -la-divina-pastora-2024/
SUMMARY:Fiestas del Barrio de la Divina Pastora 2024
DESCRIPTION:Más información\n\n&nbsp\;
ATTACH;FMTTYPE=image/jpeg:https://participacionciudadana.motril.es/wp-cont
 ent/uploads/sites/7/2024/10/cartel-fiestas-Pastora-24.jpg
CATEGORIES:Evento Participación Ciudadana
LOCATION:Plaza Hermanas Mercedarias\, Plaza Hermanas Mercedarias\, Motril\,
  Granada\, 18600\, Andalucía\, España
X-APPLE-STRUCTURED-LOCATION;VALUE=URI;X-ADDRESS=Plaza Hermanas Mercedarias\
 , Motril\, Granada\, 18600\, Andalucía\, España;X-APPLE-RADIUS=100;X-TIT
 LE=Plaza Hermanas Mercedarias:geo:0,0
END:VEVENT
BEGIN:VTIMEZONE
TZID:Europe/Madrid
X-LIC-LOCATION:Europe/Madrid
BEGIN:DAYLIGHT
DTSTART:20240331T030000
TZOFFSETFROM:+0100
TZOFFSETTO:+0200
TZNAME:CEST
END:DAYLIGHT
END:VTIMEZONE
END:VCALENDAR