BEGIN:VCALENDAR
VERSION:2.0
PRODID:-//wp-events-plugin.com//7.2.3.1//EN
TZID:Europe/Madrid
X-WR-TIMEZONE:Europe/Madrid
BEGIN:VEVENT
UID:7-179@participacionciudadana.motril.es
DTSTART;TZID=Europe/Madrid:20250612T180000
DTEND;TZID=Europe/Madrid:20250614T000000
DTSTAMP:20250606T073819Z
URL:https://participacionciudadana.motril.es/eventos/fiestas-de-barrio-san
 -antonio/
SUMMARY:Fiestas de Barrio SAN ANTONIO
DESCRIPTION:JUEVES 12 DE JUNIO\n18:00 H. La ludoteca sale a la calle en Fam
 ilia\n\nVIERNES 13 DE JUNIO\n17:30 a 19:30 H. Ofrenda Floral-Iglesia de Sa
 n Antonio\n19:30 H. Exposición de Trabajos de los Talleres de la A.VV.\n2
 0:00 H. Exhibición de baile de la Academia de Mercedes Martín.\n20:00 H.
  Apertura de la barra con tapas por la A.VV.\n20:30 H. Exhibiciones de los
  talleres de la A.VV.:\n- Taller de sevillanas\n- Taller de bachata\n- Tal
 ler de Fitness flamenco\n22:00 H. Verbena\n\nSÁBADO 14 DE JUNIO\n18:00 H.
  Buñuelos con chocolate en el Centro de Barrio a 3 €\n19:30 H. Misa - P
 rocesión
ATTACH;FMTTYPE=image/jpeg:https://participacionciudadana.motril.es/wp-cont
 ent/uploads/sites/7/2025/06/CARTEL-FIESTAS-BARRIO-SAN-ANTONIO.jpg.png
CATEGORIES:Evento Participación Ciudadana
LOCATION:Centro de Barrio San Antonio\, Camino de San Antonio \, Motril\, G
 ranada\, 18600\, Andalucía\, España
X-APPLE-STRUCTURED-LOCATION;VALUE=URI;X-ADDRESS=Camino de San Antonio \, Mo
 tril\, Granada\, 18600\, Andalucía\, España;X-APPLE-RADIUS=100;X-TITLE=C
 entro de Barrio San Antonio:geo:0,0
END:VEVENT
BEGIN:VTIMEZONE
TZID:Europe/Madrid
X-LIC-LOCATION:Europe/Madrid
BEGIN:DAYLIGHT
DTSTART:20250330T030000
TZOFFSETFROM:+0100
TZOFFSETTO:+0200
TZNAME:CEST
END:DAYLIGHT
END:VTIMEZONE
END:VCALENDAR