BEGIN:VCALENDAR
VERSION:2.0
PRODID:-//wp-events-plugin.com//7.2.3.1//EN
TZID:Europe/Madrid
X-WR-TIMEZONE:Europe/Madrid
BEGIN:VEVENT
UID:7-252@participacionciudadana.motril.es
DTSTART;TZID=Europe/Madrid:20260430T100000
DTEND;TZID=Europe/Madrid:20260430T210000
DTSTAMP:20260422T090224Z
URL:https://participacionciudadana.motril.es/eventos/donacion-de-sangre-16
 /
SUMMARY:Donación de Sangre
DESCRIPTION:DONACIÓN DE SANGRE\nHaz crecer la vida\,\nDONA SANGRE\n\n30 de
  ABRIL de 2026\nCentro Cívico La Matraquilla\nPlaza de la Coronación\n\n
 De 10:00 a 14:00 horas\nDe 17:00 a 21:00 horas
ATTACH;FMTTYPE=image/jpeg:https://participacionciudadana.motril.es/wp-cont
 ent/uploads/sites/7/2026/04/MOTRIL-30-ABRIL-2026.jpg
CATEGORIES:Evento Participación Ciudadana
LOCATION:Plaza d\, Plaza de la Coronación S/N. "CENTRO CÍVICO LA MATRAQUI
 LLA".\, Motril\, Granada\, 18600\, Andalucía\, España
X-APPLE-STRUCTURED-LOCATION;VALUE=URI;X-ADDRESS=Plaza de la Coronación S/N
 . \"CENTRO CÍVICO LA MATRAQUILLA\".\, Motril\, Granada\, 18600\, Andaluc
 ía\, España;X-APPLE-RADIUS=100;X-TITLE=Plaza d:geo:0,0
END:VEVENT
BEGIN:VTIMEZONE
TZID:Europe/Madrid
X-LIC-LOCATION:Europe/Madrid
BEGIN:DAYLIGHT
DTSTART:20260329T030000
TZOFFSETFROM:+0100
TZOFFSETTO:+0200
TZNAME:CEST
END:DAYLIGHT
END:VTIMEZONE
END:VCALENDAR